Workbook

Sheet לג בעומר
B1: עריכה: צבי גינצברג - להערות והארות ולהרשמה לקהלת חידונים למייל, שלחו אלינו מייל לכתובת: | E1: mibarosh1@gmail.com
B3: שאלות שנשארו לענות | C3: מס' שאלות שעניתם נכונה | D3: מתוך | E3: מס' נקודות שנצברו | F3: מתוך | G3: הציון באחוזים
B4: =C4-22 -> -22 | C4: =E4/10 -> 0 | D4: 22 | E4: =SUM(F9:F30) -> 0 | F4: 220 | G4: =E4/220 -> 0
B6: חידון פרשת ל"ג בעומר
B8: אות | C8: השאלות | D8: הקלידו בטור זה את התשובה | E8: האם עניתם נכון? | F8: צבירת נקודות
B9: א | C9: לא היה נתון לרדיפה ובכל זאת 13 שנים נחבא | E9: =IF(D9="","עדיין לא הקלדתם תשובה",IF(D9='נתונים'!B1,"תשובה נכונה! כל הכבוד!","תשובה לא נכונה")) -> עדיין לא הקלדתם תשובה | F9: =IF(E9="תשובה נכונה! כל הכבוד!",10,"") | G9: =IF(F9=10,"נקודות","")
B10: ב | C10: שם מושב בגליל העליון והוא גם פיוט המושר בפי ההמון | E10: =IF(D10="","עדיין לא הקלדתם תשובה",IF(D10='נתונים'!B2,"תשובה נכונה! כל הכבוד!","תשובה לא נכונה")) -> עדיין לא הקלדתם תשובה | F10: =IF(E10="תשובה נכונה! כל הכבוד!",10,"") | G10: =IF(F10=10,"נקודות","")
B11: ג | C11: כינוי לאביו ואמו של יהודה, אך לא זה שעלה לגדולה | E11: =IF(D11="","עדיין לא הקלדתם תשובה",IF(D11='נתונים'!B3,"תשובה נכונה! כל הכבוד!","תשובה לא נכונה")) -> עדיין לא הקלדתם תשובה | F11: =IF(E11="תשובה נכונה! כל הכבוד!",10,"") | G11: =IF(F11=10,"נקודות","")
B12: ד | C12: גרמו רבי שמעון כאבים בגופו, דווקא אחר שחזר לביתו | E12: =IF(D12="","עדיין לא הקלדתם תשובה",IF(D12='נתונים'!B4,"תשובה נכונה! כל הכבוד!","תשובה לא נכונה")) -> עדיין לא הקלדתם תשובה | F12: =IF(E12="תשובה נכונה! כל הכבוד!",10,"") | G12: =IF(F12=10,"נקודות","")
B13: ה | C13: לאחר יציאתם מן המערה בפקיעין, הן היו להם סימן עד כמה המצוות על ישראל חביבין. | E13: =IF(D13="","עדיין לא הקלדתם תשובה",IF(D13='נתונים'!B5,"תשובה נכונה! כל הכבוד!","תשובה לא נכונה")) -> עדיין לא הקלדתם תשובה | F13: =IF(E13="תשובה נכונה! כל הכבוד!",10,"") | G13: =IF(F13=10,"נקודות","")
B14: ו | C14: פיוט ידוע לרבי שמעון בר יוחאי, אותו חיבר הבן איש חי (3 מילים) | E14: =IF(D14="","עדיין לא הקלדתם תשובה",IF(D14='נתונים'!B6,"תשובה נכונה! כל הכבוד!","תשובה לא נכונה")) -> עדיין לא הקלדתם תשובה | F14: =IF(E14="תשובה נכונה! כל הכבוד!",10,"") | G14: =IF(F14=10,"נקודות","")
B15: ז | C15: החיבור שיצא ע"פ המסורת ביום ההילולא, בו כמוסים סודות הקבלה | E15: =IF(D15="","עדיין לא הקלדתם תשובה",IF(D15='נתונים'!B7,"תשובה נכונה! כל הכבוד!","תשובה לא נכונה")) -> עדיין לא הקלדתם תשובה | F15: =IF(E15="תשובה נכונה! כל הכבוד!",10,"") | G15: =IF(F15=10,"נקודות","")
B16: ח | C16: לרבי חנינא בן דוסא הספיק לשבוע, ולרבי שמעון לפתע הופיע. (בלשון יחיד) | E16: =IF(D16="","עדיין לא הקלדתם תשובה",IF(D16='נתונים'!B8,"תשובה נכונה! כל הכבוד!","תשובה לא נכונה")) -> עדיין לא הקלדתם תשובה | F16: =IF(E16="תשובה נכונה! כל הכבוד!",10,"") | G16: =IF(F16=10,"נקודות","")
B17: ט | C17: לאחר שניקה אותה מבית קברות, נהפך גם יהודה לגל עצמות | E17: =IF(D17="","עדיין לא הקלדתם תשובה",IF(D17='נתונים'!B9,"תשובה נכונה! כל הכבוד!","תשובה לא נכונה")) -> עדיין לא הקלדתם תשובה | F17: =IF(E17="תשובה נכונה! כל הכבוד!",10,"") | G17: =IF(F17=10,"נקודות","")
B18: י | C18: לאחר שנים רבות נפקד בבן זכר, שמו בפיוטי ל"ג בעומר הרבה נזכר | E18: =IF(D18="","עדיין לא הקלדתם תשובה",IF(D18='נתונים'!B10,"תשובה נכונה! כל הכבוד!","תשובה לא נכונה")) -> עדיין לא הקלדתם תשובה | F18: =IF(E18="תשובה נכונה! כל הכבוד!",10,"") | G18: =IF(F18=10,"נקודות","")
B19: כ | C19: סופק לשתיה לר' שמעון ובנו ע"י אשתו כשהתחבאו בבית המדרש (בארמית, ע"פ הגמרא) | E19: =IF(D19="","עדיין לא הקלדתם תשובה",IF(D19='נתונים'!B11,"תשובה נכונה! כל הכבוד!","תשובה לא נכונה")) -> עדיין לא הקלדתם תשובה | F19: =IF(E19="תשובה נכונה! כל הכבוד!",10,"") | G19: =IF(F19=10,"נקודות","")
B20: ל | C20: שם של מלון בצפון, זה גם שם משפחתו של כותב הפזמון | E20: =IF(D20="","עדיין לא הקלדתם תשובה",IF(D20='נתונים'!B12,"תשובה נכונה! כל הכבוד!","תשובה לא נכונה")) -> עדיין לא הקלדתם תשובה | F20: =IF(E20="תשובה נכונה! כל הכבוד!",10,"") | G20: =IF(F20=10,"נקודות","")
... B30: ת | C30: כאלו עשה רבי שמעון שבעים, זה מוזכר באחד הפיוטים. (כתיב חסר) | E30: =IF(D30="","עדיין לא הקלדתם תשובה",IF(D30='נתונים'!B22,"תשובה נכונה! כל הכבוד!","תשובה לא נכונה")) -> עדיין לא הקלדתם תשובה | F30: =IF(E30="תשובה נכונה! כל הכבוד!",10,"") | G30: =IF(F30=10,"נקודות","")
B32: =IF(E4=220,"כל הכבוד! עניתם נכונה על כל השאלות","עדיין לא סיימתם לענות על כל השאלות") -> עדיין לא סיימתם לענות על כל השאלות

Sheet נתונים
A1: א | B1: אלעזר
A2: ב | B2: בר יוחאי
A3: ג | B3: גרים
A4: ד | B4: דמעות
A5: ה | B5: הדסים
A6: ו | B6: ואמרתם כה לחי
A7: ז | B7: זוהר
A8: ח | B8: חרוב
A9: ט | B9: טבריה
A10: י | B10: יוחאי
A11: כ | B11: כוזא דמיא
A12: ל | B12: לביא
... A22: ת | B22: תקונים
